BEGIN:VCALENDAR
VERSION:2.0
PRODID:-//KYOTOGRAPHIE - ECPv5.10.0//NONSGML v1.0//EN
CALSCALE:GREGORIAN
METHOD:PUBLISH
X-WR-CALNAME:KYOTOGRAPHIE
X-ORIGINAL-URL:https://2017.kyotographie.jp/en
X-WR-CALDESC:Events for KYOTOGRAPHIE
BEGIN:VTIMEZONE
TZID:Asia/Tokyo
BEGIN:STANDARD
TZOFFSETFROM:+0900
TZOFFSETTO:+0900
TZNAME:JST
DTSTART:20160101T000000
END:STANDARD
END:VTIMEZONE
BEGIN:VEVENT
DTSTART;TZID=Asia/Tokyo:20160423T160000
DTEND;TZID=Asia/Tokyo:20160423T170000
DTSTAMP:20260422T005000
CREATED:20160401T072102Z
LAST-MODIFIED:20160401T072520Z
UID:4657-1461427200-1461430800@2017.kyotographie.jp
SUMMARY:Artist Talk: Thierry Bouët
DESCRIPTION:Join Thierry Bouët and be introduced to the babies and the making of this series. Learn about Thierry’s lengthy and diverse career\, his transition from fashion to documentary photography\, and his philosophy on photography. (Limited space. Booking advised).\n\n\nThierry Bouët\n\n\n  \n\n\n\n\n\n\n\n\n\n[Reservation Form]\nProgram Name*    \nYour Name*  \nMail Address*  \nPhone Number*  \nNumber of people attending*\n\n\nNote   \n\n \nInquiry ：public.program@2017.kyotographie.jp \n*Please note: Exhibition entry charges still apply to free programs. \n\n[Fee]\nFree \n[Language]\nEnglish with Japanese translation \n[Program name for reservation]\nArtist Talk: Thierry Bouet
URL:https://2017.kyotographie.jp/en/event/thierry-bouet
LOCATION:Horikawa Oike Gallery\, 京都市中京区押油小路町238-1 \, Japan
CATEGORIES:event2016,Visitor’s Program
ATTACH;FMTTYPE=image/jpeg:https://2017.kyotographie.jp/wp-content/uploads/2016/04/Girl-9-Minutes-old.jpg
END:VEVENT
END:VCALENDAR