BEGIN:VCALENDAR
VERSION:2.0
PRODID:-//KYOTOGRAPHIE - ECPv5.10.0//NONSGML v1.0//EN
CALSCALE:GREGORIAN
METHOD:PUBLISH
X-WR-CALNAME:KYOTOGRAPHIE
X-ORIGINAL-URL:https://2017.kyotographie.jp
X-WR-CALDESC:KYOTOGRAPHIE のイベント
BEGIN:VTIMEZONE
TZID:Asia/Tokyo
BEGIN:STANDARD
TZOFFSETFROM:+0900
TZOFFSETTO:+0900
TZNAME:JST
DTSTART:20150101T000000
END:STANDARD
END:VTIMEZONE
BEGIN:VEVENT
DTSTART;TZID=Asia/Tokyo:20150418T130000
DTEND;TZID=Asia/Tokyo:20150418T143000
DTSTAMP:20260422T084354
CREATED:20150328T171057Z
LAST-MODIFIED:20150410T150726Z
UID:2148-1429362000-1429367400@2017.kyotographie.jp
SUMMARY:reallyGood\, murder: ノ・スンテクと小崎哲哉によるトーク
DESCRIPTION:ノ・スンテクと小崎哲哉の対談。今回、スンテクが展示する「reallyGood Murder」を通して、軍事産業や戦争・紛争、そこで生きる人々など、そのイメージの背後に横たわる複雑な問題について話し合います。イベントは韓国語と日本語で行われます。 \n\n\n[スピーカー]\nノ・スンテク\n小崎哲哉–『REALTOKYO』『REALKYOTO』発行人兼編集長 \n[会場]\nギャラリー素形\n>展示情報 \n[参加費]\n無料 \n[ご予約用プログラム名]\nノ・スンテクと小崎哲哉によるトーク \n時間は後日発表いたします\n\n\n  \n\n\n\n\n\n\n\n\n\n[ご予約フォーム]\n以下フォームに必須情報を記入して送信してください。\n3営業日以内に担当よりお返事いたします。 \nプログラム名 (必須)    \nお名前（必須）  \nメールアドレス（必須）\nお電話番号（必須） \n人数 (必須)\n名\n\n備考   \n\n \nお問い合わせ：public.program@2017.kyotographie.jp \n \n\nノ・スンテク\n1971年ソウル生まれ。北朝鮮と韓国にて作品を制作。スンテクが考察するのは、朝鮮戦争がいかに存続し、そして今日の韓国社会においてその状況が強化されているかということである。彼が熱心に注視するのは、“分断の権力”の中にあるギャップだ。この分断の権力は、朝鮮戦争と半島の分断が動かざる歴史的事件の一部であるとし、物事を自らの優位へと解釈するのだ。それは、北朝鮮および韓国を動かし、また同時に機能不全に陥らせる現代のモンスターである。スンテクはこのモンスターからにじみ出るもの全て―吐きだされた濃い血、狂気と沈黙、利益と損害、爆笑と冷笑な微笑、停止と流れ―をイメージと文章の形式で取り上げ、異化させる。このような例外的な状態が永遠のものだとモンスターに夢想させておくようなこの分裂状態に関しての、今日における政治学を、スンテクは明らかにしようと試みるのだ。 \n\n小崎哲哉 \n1955年東京生まれ。カルチャーウェブマガジン「REALTOKYO」と「REALKYOTO」発行人兼編集長。\n日本とアジア太平洋のアートシーンの包括を目的とした日英バイリンガルの現代アート雑誌「ART iT」前発行人兼編集長。彼は1989年にカルチャーマガジン「03 Tokyo Calling」の立ち上げに副編集長として関わっており、1996年にはインターネットワールドエキスポの日本ゾーン・テーマパビリオン「Sensorium」、2005年愛知万国博覧会テーマ普及誌『くくのち』のエディトリアルディレクターを務める。1999年に「REALTOKYO」、2003年に「ART iT」、2007年には「REALKYOTO」を創刊する。彼の制作物には、CM-ROMブック『マルチメディア歌舞伎』や、文化人類学者のクロード・レヴィ＝ストロース氏、作家の池澤夏樹氏、映画監督のアッバス・キアロスタミやその他の寄稿による写真集『百年の愚行』などがある。ART iT社を2010年に退社し、2013年愛知トリエンナーレではパフォーミングアーツ統括プロデューサーに就任した。2014年『百年の愚行続』を著作、出版。現在は京都造形芸術大学客員教授。 \n・REALTOKYO\n・REALKYOTO\n・ART iT
URL:https://2017.kyotographie.jp/event/suntag-noh-talk
LOCATION:ギャラリー素形\, 中京区室町通二条下ル蛸薬師町271-1\, 京都府京都市\, 604-0021
CATEGORIES:event2015,PUBLIC PROGRAM
ATTACH;FMTTYPE=image/jpeg:https://2017.kyotographie.jp/wp-content/uploads/2015/03/sugata1.jpg
END:VEVENT
END:VCALENDAR